Package: qsvaR Version: 1.13.1 Command: F:\biocbuild\bbs-3.22-bioc\R\bin\R.exe CMD check --no-multiarch --install=check:qsvaR.install-out.txt --library=F:\biocbuild\bbs-3.22-bioc\R\library --no-vignettes --timings qsvaR_1.13.1.tar.gz StartedAt: 2025-08-15 06:43:34 -0400 (Fri, 15 Aug 2025) EndedAt: 2025-08-15 06:48:10 -0400 (Fri, 15 Aug 2025) EllapsedTime: 275.4 seconds RetCode: 0 Status: OK CheckDir: qsvaR.Rcheck Warnings: 0