Package: qsvaR Version: 1.14.0 Command: /Library/Frameworks/R.framework/Resources/bin/R CMD check --install=check:qsvaR.install-out.txt --library=/Library/Frameworks/R.framework/Resources/library --no-vignettes --timings qsvaR_1.14.0.tar.gz StartedAt: 2025-11-22 19:07:48 -0500 (Sat, 22 Nov 2025) EndedAt: 2025-11-22 19:14:28 -0500 (Sat, 22 Nov 2025) EllapsedTime: 399.7 seconds RetCode: 0 Status: OK CheckDir: qsvaR.Rcheck Warnings: 0