Package: qsvaR Version: 1.14.0 Command: /Library/Frameworks/R.framework/Resources/bin/R CMD build --keep-empty-dirs --no-resave-data qsvaR StartedAt: 2025-11-21 07:46:04 -0500 (Fri, 21 Nov 2025) EndedAt: 2025-11-21 07:48:46 -0500 (Fri, 21 Nov 2025) EllapsedTime: 161.9 seconds RetCode: 0 Status: OK PackageFile: qsvaR_1.14.0.tar.gz PackageFileSize: 3.383 MiB