Package: qsvaR Version: 1.14.0 Command: rm -rf qsvaR.buildbin-libdir && mkdir qsvaR.buildbin-libdir && /Users/biocbuild/BBS/utils/build-universal.sh qsvaR_1.14.0.tar.gz /Library/Frameworks/R.framework/Resources/bin/R qsvaR.buildbin-libdir StartedAt: 2025-11-23 10:40:31 -0500 (Sun, 23 Nov 2025) EndedAt: 2025-11-23 10:41:27 -0500 (Sun, 23 Nov 2025) EllapsedTime: 56.8 seconds RetCode: 0 Status: OK PackageFile: qsvaR_1.14.0.tgz PackageFileSize: 3.833 MiB