Package: qsmooth Version: 1.25.0 Command: /home/biocbuild/bbs-3.22-bioc/R/bin/R CMD build --keep-empty-dirs --no-resave-data --md5 qsmooth StartedAt: 2025-10-19 19:27:07 -0400 (Sun, 19 Oct 2025) EndedAt: 2025-10-19 19:28:09 -0400 (Sun, 19 Oct 2025) EllapsedTime: 62.1 seconds RetCode: 0 Status: OK PackageFile: qsmooth_1.25.0.tar.gz PackageFileSize: 1.29 MiB