Package: qsmooth Version: 1.26.0 Command: /Library/Frameworks/R.framework/Resources/bin/R CMD check --install=check:qsmooth.install-out.txt --library=/Library/Frameworks/R.framework/Resources/library --no-vignettes --timings qsmooth_1.26.0.tar.gz StartedAt: 2025-11-03 23:32:55 -0500 (Mon, 03 Nov 2025) EndedAt: 2025-11-03 23:37:06 -0500 (Mon, 03 Nov 2025) EllapsedTime: 251.1 seconds RetCode: 0 Status: WARNINGS CheckDir: qsmooth.Rcheck Warnings: 1