Package: qsmooth Version: 1.26.0 Command: /Library/Frameworks/R.framework/Resources/bin/R CMD build --keep-empty-dirs --no-resave-data qsmooth StartedAt: 2025-11-03 18:20:59 -0500 (Mon, 03 Nov 2025) EndedAt: 2025-11-03 18:22:08 -0500 (Mon, 03 Nov 2025) EllapsedTime: 69.7 seconds RetCode: 0 Status: OK PackageFile: qsmooth_1.26.0.tar.gz PackageFileSize: 1.3 MiB