Package: qsmooth Version: 1.26.0 Command: rm -rf qsmooth.buildbin-libdir && mkdir qsmooth.buildbin-libdir && /Users/biocbuild/BBS/utils/build-universal.sh qsmooth_1.26.0.tar.gz /Library/Frameworks/R.framework/Resources/bin/R qsmooth.buildbin-libdir StartedAt: 2025-11-04 01:57:20 -0500 (Tue, 04 Nov 2025) EndedAt: 2025-11-04 01:58:08 -0500 (Tue, 04 Nov 2025) EllapsedTime: 48.5 seconds RetCode: 0 Status: OK PackageFile: qsmooth_1.26.0.tgz PackageFileSize: 1.471 MiB