Package: qsmooth Version: 1.25.0 Command: /Library/Frameworks/R.framework/Resources/bin/R CMD INSTALL qsmooth StartedAt: 2025-10-20 15:12:26 -0400 (Mon, 20 Oct 2025) EndedAt: 2025-10-20 15:12:39 -0400 (Mon, 20 Oct 2025) EllapsedTime: 13.1 seconds RetCode: 0 Status: OK