Package: qPLEXanalyzer Version: 1.27.0 Command: F:\biocbuild\bbs-3.22-bioc\R\bin\R.exe CMD INSTALL qPLEXanalyzer StartedAt: 2025-08-14 16:27:28 -0400 (Thu, 14 Aug 2025) EndedAt: 2025-08-14 16:28:30 -0400 (Thu, 14 Aug 2025) EllapsedTime: 62.1 seconds RetCode: 0 Status: OK