Package: qPLEXanalyzer Version: 1.28.0 Command: /Library/Frameworks/R.framework/Resources/bin/R CMD INSTALL qPLEXanalyzer StartedAt: 2025-11-17 17:56:59 -0500 (Mon, 17 Nov 2025) EndedAt: 2025-11-17 17:57:14 -0500 (Mon, 17 Nov 2025) EllapsedTime: 15.5 seconds RetCode: 0 Status: OK