Package: pvca Version: 1.49.0 Command: /home/biocbuild/R/R/bin/R CMD INSTALL pvca StartedAt: 2025-10-16 21:24:38 -0000 (Thu, 16 Oct 2025) EndedAt: 2025-10-16 21:25:00 -0000 (Thu, 16 Oct 2025) EllapsedTime: 21.8 seconds RetCode: 0 Status: OK