Package: pvca Version: 1.49.0 Command: /home/biocbuild/R/R/bin/R CMD check --install=check:pvca.install-out.txt --library=/home/biocbuild/R/R/site-library --no-vignettes --timings pvca_1.49.0.tar.gz StartedAt: 2025-10-17 12:26:51 -0000 (Fri, 17 Oct 2025) EndedAt: 2025-10-17 12:28:27 -0000 (Fri, 17 Oct 2025) EllapsedTime: 96.1 seconds RetCode: 0 Status: OK CheckDir: pvca.Rcheck Warnings: 0