Package: pvca Version: 1.49.0 Command: /home/biocbuild/R/R/bin/R CMD build --keep-empty-dirs --no-resave-data pvca StartedAt: 2025-10-17 03:43:06 -0000 (Fri, 17 Oct 2025) EndedAt: 2025-10-17 03:43:35 -0000 (Fri, 17 Oct 2025) EllapsedTime: 29.0 seconds RetCode: 0 Status: OK PackageFile: pvca_1.49.0.tar.gz PackageFileSize: 213.3 KiB