Package: pvca Version: 1.49.0 Command: F:\biocbuild\bbs-3.22-bioc\R\bin\R.exe CMD check --no-multiarch --install=check:pvca.install-out.txt --library=F:\biocbuild\bbs-3.22-bioc\R\library --no-vignettes --timings pvca_1.49.0.tar.gz StartedAt: 2025-08-15 06:41:00 -0400 (Fri, 15 Aug 2025) EndedAt: 2025-08-15 06:42:24 -0400 (Fri, 15 Aug 2025) EllapsedTime: 84.3 seconds RetCode: 0 Status: OK CheckDir: pvca.Rcheck Warnings: 0