Package: pvca Version: 1.49.0 Command: /home/biocbuild/bbs-3.22-bioc/R/bin/R CMD check --install=check:pvca.install-out.txt --library=/home/biocbuild/bbs-3.22-bioc/R/site-library --timings pvca_1.49.0.tar.gz StartedAt: 2025-10-20 03:34:45 -0400 (Mon, 20 Oct 2025) EndedAt: 2025-10-20 03:36:04 -0400 (Mon, 20 Oct 2025) EllapsedTime: 79.1 seconds RetCode: 0 Status: OK CheckDir: pvca.Rcheck Warnings: 0