Package: pvca Version: 1.49.0 Command: /Library/Frameworks/R.framework/Resources/bin/R CMD check --install=check:pvca.install-out.txt --library=/Library/Frameworks/R.framework/Resources/library --no-vignettes --timings pvca_1.49.0.tar.gz StartedAt: 2025-10-22 23:22:16 -0400 (Wed, 22 Oct 2025) EndedAt: 2025-10-22 23:23:43 -0400 (Wed, 22 Oct 2025) EllapsedTime: 87.1 seconds RetCode: 0 Status: OK CheckDir: pvca.Rcheck Warnings: 0