Package: pvca Version: 1.49.0 Command: /Library/Frameworks/R.framework/Resources/bin/R CMD build --keep-empty-dirs --no-resave-data pvca StartedAt: 2025-10-22 18:14:49 -0400 (Wed, 22 Oct 2025) EndedAt: 2025-10-22 18:15:15 -0400 (Wed, 22 Oct 2025) EllapsedTime: 26.3 seconds RetCode: 0 Status: OK PackageFile: pvca_1.49.0.tar.gz PackageFileSize: 217.6 KiB