Package: pvca Version: 1.49.0 Command: /Library/Frameworks/R.framework/Resources/bin/R CMD INSTALL pvca StartedAt: 2025-10-22 15:07:21 -0400 (Wed, 22 Oct 2025) EndedAt: 2025-10-22 15:07:25 -0400 (Wed, 22 Oct 2025) EllapsedTime: 4.3 seconds RetCode: 0 Status: OK