Package: pvac Version: 1.57.0 Command: /home/biocbuild/R/R/bin/R CMD check --install=check:pvac.install-out.txt --library=/home/biocbuild/R/R/site-library --no-vignettes --timings pvac_1.57.0.tar.gz StartedAt: 2025-10-07 11:03:48 -0000 (Tue, 07 Oct 2025) EndedAt: 2025-10-07 11:04:53 -0000 (Tue, 07 Oct 2025) EllapsedTime: 65.1 seconds RetCode: 0 Status: OK CheckDir: pvac.Rcheck Warnings: 0