Package: puma Version: 3.52.0 Command: /home/biocbuild/bbs-3.22-bioc/R/bin/R CMD check --install=check:puma.install-out.txt --library=/home/biocbuild/bbs-3.22-bioc/R/site-library --timings puma_3.52.0.tar.gz StartedAt: 2025-11-15 03:15:33 -0500 (Sat, 15 Nov 2025) EndedAt: 2025-11-15 03:21:37 -0500 (Sat, 15 Nov 2025) EllapsedTime: 364.3 seconds RetCode: 0 Status: OK CheckDir: puma.Rcheck Warnings: 0