Package: puma Version: 3.52.0 Command: /home/biocbuild/bbs-3.22-bioc/R/bin/R CMD build --keep-empty-dirs --no-resave-data --md5 puma StartedAt: 2025-11-14 19:32:10 -0500 (Fri, 14 Nov 2025) EndedAt: 2025-11-14 19:33:31 -0500 (Fri, 14 Nov 2025) EllapsedTime: 81.1 seconds RetCode: 0 Status: OK PackageFile: puma_3.52.0.tar.gz PackageFileSize: 3.41 MiB