Package: puma Version: 3.52.0 Command: /Library/Frameworks/R.framework/Resources/bin/R CMD INSTALL puma StartedAt: 2025-11-17 17:30:51 -0500 (Mon, 17 Nov 2025) EndedAt: 2025-11-17 17:32:24 -0500 (Mon, 17 Nov 2025) EllapsedTime: 92.9 seconds RetCode: 0 Status: OK