Package: puma Version: 3.52.0 Command: /Library/Frameworks/R.framework/Resources/bin/R CMD check --install=check:puma.install-out.txt --library=/Library/Frameworks/R.framework/Resources/library --no-vignettes --timings puma_3.52.0.tar.gz StartedAt: 2025-11-18 12:25:11 -0500 (Tue, 18 Nov 2025) EndedAt: 2025-11-18 12:36:04 -0500 (Tue, 18 Nov 2025) EllapsedTime: 653.1 seconds RetCode: 0 Status: WARNINGS CheckDir: puma.Rcheck Warnings: 1