Package: puma Version: 3.52.0 Command: /Library/Frameworks/R.framework/Resources/bin/R CMD check --install=check:puma.install-out.txt --library=/Library/Frameworks/R.framework/Resources/library --no-vignettes --timings puma_3.52.0.tar.gz StartedAt: 2025-11-10 21:46:11 -0500 (Mon, 10 Nov 2025) EndedAt: 2025-11-10 21:48:10 -0500 (Mon, 10 Nov 2025) EllapsedTime: 118.4 seconds RetCode: 0 Status: WARNINGS CheckDir: puma.Rcheck Warnings: 1