Package: puma Version: 3.52.0 Command: /Library/Frameworks/R.framework/Resources/bin/R CMD build --keep-empty-dirs --no-resave-data puma StartedAt: 2025-11-10 17:25:06 -0500 (Mon, 10 Nov 2025) EndedAt: 2025-11-10 17:25:43 -0500 (Mon, 10 Nov 2025) EllapsedTime: 37.4 seconds RetCode: 0 Status: OK PackageFile: puma_3.52.0.tar.gz PackageFileSize: 3.406 MiB