Package: psichomics Version: 1.35.0 Command: /home/biocbuild/R/R/bin/R CMD check --install=check:psichomics.install-out.txt --library=/home/biocbuild/R/R/site-library --no-vignettes --timings psichomics_1.35.0.tar.gz StartedAt: 2025-10-17 12:25:48 -0000 (Fri, 17 Oct 2025) EndedAt: 2025-10-17 12:36:31 -0000 (Fri, 17 Oct 2025) EllapsedTime: 642.9 seconds RetCode: 0 Status: OK CheckDir: psichomics.Rcheck Warnings: 0