Package: psichomics Version: 1.35.0 Command: rm -rf psichomics.buildbin-libdir && mkdir psichomics.buildbin-libdir && F:\biocbuild\bbs-3.22-bioc\R\bin\R.exe CMD INSTALL --build --library=psichomics.buildbin-libdir psichomics_1.35.0.tar.gz StartedAt: 2025-08-15 11:00:38 -0400 (Fri, 15 Aug 2025) EndedAt: 2025-08-15 11:07:23 -0400 (Fri, 15 Aug 2025) EllapsedTime: 405.0 seconds RetCode: 0 Status: OK PackageFile: psichomics_1.35.0.zip PackageFileSize: 4.971 MiB