Package: psichomics Version: 1.35.0 Command: /home/biocbuild/bbs-3.22-bioc/R/bin/R CMD INSTALL psichomics StartedAt: 2025-10-21 16:01:14 -0400 (Tue, 21 Oct 2025) EndedAt: 2025-10-21 16:02:31 -0400 (Tue, 21 Oct 2025) EllapsedTime: 77.1 seconds RetCode: 0 Status: OK