Package: psichomics Version: 1.35.0 Command: /home/biocbuild/bbs-3.22-bioc/R/bin/R CMD build --keep-empty-dirs --no-resave-data --md5 psichomics StartedAt: 2025-10-21 19:25:04 -0400 (Tue, 21 Oct 2025) EndedAt: 2025-10-21 19:26:59 -0400 (Tue, 21 Oct 2025) EllapsedTime: 115.1 seconds RetCode: 0 Status: OK PackageFile: psichomics_1.35.0.tar.gz PackageFileSize: 6.137 MiB