Package: psichomics Version: 1.35.0 Command: /Library/Frameworks/R.framework/Resources/bin/R CMD check --install=check:psichomics.install-out.txt --library=/Library/Frameworks/R.framework/Resources/library --no-vignettes --timings psichomics_1.35.0.tar.gz StartedAt: 2025-10-24 21:28:16 -0400 (Fri, 24 Oct 2025) EndedAt: 2025-10-24 21:31:37 -0400 (Fri, 24 Oct 2025) EllapsedTime: 201.4 seconds RetCode: 0 Status: OK CheckDir: psichomics.Rcheck Warnings: 0