Package: psichomics Version: 1.35.0 Command: /Library/Frameworks/R.framework/Resources/bin/R CMD build --keep-empty-dirs --no-resave-data psichomics StartedAt: 2025-10-23 17:27:48 -0400 (Thu, 23 Oct 2025) EndedAt: 2025-10-23 17:28:38 -0400 (Thu, 23 Oct 2025) EllapsedTime: 49.6 seconds RetCode: 0 Status: OK PackageFile: psichomics_1.35.0.tar.gz PackageFileSize: 6.129 MiB