Package: protGear Version: 1.13.0 Command: /Library/Frameworks/R.framework/Resources/bin/R CMD INSTALL protGear StartedAt: 2025-10-28 15:09:54 -0400 (Tue, 28 Oct 2025) EndedAt: 2025-10-28 15:10:03 -0400 (Tue, 28 Oct 2025) EllapsedTime: 9.7 seconds RetCode: 0 Status: OK