Package: projectR Version: 1.26.0 Command: /home/biocbuild/R/R/bin/R CMD check --install=check:projectR.install-out.txt --library=/home/biocbuild/R/R/site-library --no-vignettes --timings projectR_1.26.0.tar.gz StartedAt: 2025-11-14 13:10:00 -0000 (Fri, 14 Nov 2025) EndedAt: 2025-11-14 13:16:06 -0000 (Fri, 14 Nov 2025) EllapsedTime: 366.7 seconds RetCode: 0 Status: OK CheckDir: projectR.Rcheck Warnings: 0