Package: projectR Version: 1.26.0 Command: /Library/Frameworks/R.framework/Resources/bin/R CMD INSTALL projectR StartedAt: 2025-11-10 15:13:41 -0500 (Mon, 10 Nov 2025) EndedAt: 2025-11-10 15:13:54 -0500 (Mon, 10 Nov 2025) EllapsedTime: 12.9 seconds RetCode: 0 Status: OK