Package: projectR Version: 1.26.0 Command: /Library/Frameworks/R.framework/Resources/bin/R CMD check --install=check:projectR.install-out.txt --library=/Library/Frameworks/R.framework/Resources/library --no-vignettes --timings projectR_1.26.0.tar.gz StartedAt: 2025-11-10 21:44:05 -0500 (Mon, 10 Nov 2025) EndedAt: 2025-11-10 21:45:43 -0500 (Mon, 10 Nov 2025) EllapsedTime: 98.1 seconds RetCode: 0 Status: OK CheckDir: projectR.Rcheck Warnings: 0