Package: projectR Version: 1.26.0 Command: /Library/Frameworks/R.framework/Resources/bin/R CMD build --keep-empty-dirs --no-resave-data projectR StartedAt: 2025-11-10 17:24:16 -0500 (Mon, 10 Nov 2025) EndedAt: 2025-11-10 17:25:06 -0500 (Mon, 10 Nov 2025) EllapsedTime: 49.6 seconds RetCode: 0 Status: OK PackageFile: projectR_1.26.0.tar.gz PackageFileSize: 5.906 MiB