Package: profileplyr Version: 1.25.1 Command: /home/biocbuild/R/R/bin/R CMD INSTALL profileplyr StartedAt: 2025-10-23 21:25:39 -0000 (Thu, 23 Oct 2025) EndedAt: 2025-10-23 21:26:53 -0000 (Thu, 23 Oct 2025) EllapsedTime: 73.7 seconds RetCode: 0 Status: OK