Package: profileScoreDist Version: 1.37.0 Command: /Library/Frameworks/R.framework/Resources/bin/R CMD check --install=check:profileScoreDist.install-out.txt --library=/Library/Frameworks/R.framework/Resources/library --no-vignettes --timings profileScoreDist_1.37.0.tar.gz StartedAt: 2025-10-20 00:49:43 -0400 (Mon, 20 Oct 2025) EndedAt: 2025-10-20 00:50:20 -0400 (Mon, 20 Oct 2025) EllapsedTime: 36.8 seconds RetCode: 0 Status: OK CheckDir: profileScoreDist.Rcheck Warnings: 0