Package: profileScoreDist Version: 1.37.0 Command: rm -rf profileScoreDist.buildbin-libdir && mkdir profileScoreDist.buildbin-libdir && /Users/biocbuild/BBS/utils/build-universal.sh profileScoreDist_1.37.0.tar.gz /Library/Frameworks/R.framework/Resources/bin/R profileScoreDist.buildbin-libdir StartedAt: 2025-10-20 03:25:56 -0400 (Mon, 20 Oct 2025) EndedAt: 2025-10-20 03:26:16 -0400 (Mon, 20 Oct 2025) EllapsedTime: 19.2 seconds RetCode: 0 Status: OK PackageFile: profileScoreDist_1.37.0.tgz PackageFileSize: 356 KiB