Package: profileScoreDist Version: 1.37.0 Command: /Library/Frameworks/R.framework/Resources/bin/R CMD INSTALL profileScoreDist StartedAt: 2025-10-20 15:07:09 -0400 (Mon, 20 Oct 2025) EndedAt: 2025-10-20 15:07:12 -0400 (Mon, 20 Oct 2025) EllapsedTime: 3.5 seconds RetCode: 0 Status: OK