Package: proDA Version: 1.24.0 Command: /Library/Frameworks/R.framework/Resources/bin/R CMD check --install=check:proDA.install-out.txt --library=/Library/Frameworks/R.framework/Resources/library --no-vignettes --timings proDA_1.24.0.tar.gz StartedAt: 2025-11-18 12:18:17 -0500 (Tue, 18 Nov 2025) EndedAt: 2025-11-18 12:28:24 -0500 (Tue, 18 Nov 2025) EllapsedTime: 607.7 seconds RetCode: 0 Status: OK CheckDir: proDA.Rcheck Warnings: 0