Package: proDA Version: 1.24.0 Command: rm -rf proDA.buildbin-libdir && mkdir proDA.buildbin-libdir && /Users/biocbuild/BBS/utils/build-universal.sh proDA_1.24.0.tar.gz /Library/Frameworks/R.framework/Resources/bin/R proDA.buildbin-libdir StartedAt: 2025-11-21 15:21:05 -0500 (Fri, 21 Nov 2025) EndedAt: 2025-11-21 15:21:54 -0500 (Fri, 21 Nov 2025) EllapsedTime: 49.0 seconds RetCode: 0 Status: OK PackageFile: proDA_1.24.0.tgz PackageFileSize: 1.212 MiB