Package: proDA Version: 1.24.0 Command: /Library/Frameworks/R.framework/Resources/bin/R CMD INSTALL proDA StartedAt: 2025-11-17 17:59:25 -0500 (Mon, 17 Nov 2025) EndedAt: 2025-11-17 17:59:34 -0500 (Mon, 17 Nov 2025) EllapsedTime: 8.8 seconds RetCode: 0 Status: OK