Package: proBAMr Version: 1.43.1 Command: /Library/Frameworks/R.framework/Resources/bin/R CMD INSTALL proBAMr StartedAt: 2025-10-19 15:38:16 -0400 (Sun, 19 Oct 2025) EndedAt: 2025-10-19 15:39:06 -0400 (Sun, 19 Oct 2025) EllapsedTime: 50.5 seconds RetCode: 0 Status: OK