Package: proBAMr Version: 1.43.1 Command: /Library/Frameworks/R.framework/Resources/bin/R CMD check --install=check:proBAMr.install-out.txt --library=/Library/Frameworks/R.framework/Resources/library --no-vignettes --timings proBAMr_1.43.1.tar.gz StartedAt: 2025-10-20 00:48:50 -0400 (Mon, 20 Oct 2025) EndedAt: 2025-10-20 00:54:16 -0400 (Mon, 20 Oct 2025) EllapsedTime: 325.6 seconds RetCode: 0 Status: OK CheckDir: proBAMr.Rcheck Warnings: 0