Package: proBAMr Version: 1.43.1 Command: /Library/Frameworks/R.framework/Resources/bin/R CMD build --keep-empty-dirs --no-resave-data proBAMr StartedAt: 2025-10-19 18:51:43 -0400 (Sun, 19 Oct 2025) EndedAt: 2025-10-19 18:53:27 -0400 (Sun, 19 Oct 2025) EllapsedTime: 103.1 seconds RetCode: 0 Status: OK PackageFile: proBAMr_1.43.1.tar.gz PackageFileSize: 813.8 KiB