Package: proBAMr Version: 1.43.1 Command: /Library/Frameworks/R.framework/Resources/bin/R CMD check --install=check:proBAMr.install-out.txt --library=/Library/Frameworks/R.framework/Resources/library --no-vignettes --timings proBAMr_1.43.1.tar.gz StartedAt: 2025-10-19 21:22:21 -0400 (Sun, 19 Oct 2025) EndedAt: 2025-10-19 21:24:19 -0400 (Sun, 19 Oct 2025) EllapsedTime: 118.4 seconds RetCode: 0 Status: OK CheckDir: proBAMr.Rcheck Warnings: 0