Package: proActiv Version: 1.20.0 Command: /Library/Frameworks/R.framework/Resources/bin/R CMD INSTALL proActiv StartedAt: 2025-11-10 15:20:28 -0500 (Mon, 10 Nov 2025) EndedAt: 2025-11-10 15:20:45 -0500 (Mon, 10 Nov 2025) EllapsedTime: 16.8 seconds RetCode: 0 Status: OK