Package: proActiv Version: 1.20.0 Command: /Library/Frameworks/R.framework/Resources/bin/R CMD INSTALL proActiv StartedAt: 2025-11-20 18:03:16 -0500 (Thu, 20 Nov 2025) EndedAt: 2025-11-20 18:04:02 -0500 (Thu, 20 Nov 2025) EllapsedTime: 46.1 seconds RetCode: 0 Status: OK